BEGIN:VCALENDAR
VERSION:2.0
PRODID:-//ChamberMaster//Event Calendar 2.0//EN
METHOD:PUBLISH
X-PUBLISHED-TTL:P3D
REFRESH-INTERVAL:P3D
CALSCALE:GREGORIAN
BEGIN:VEVENT
DTSTART:20260423T221500Z
DTEND:20260424T000000Z
X-MICROSOFT-CDO-ALLDAYEVENT:FALSE
SUMMARY:Business After Hours at Texas Furniture & Appliance
DESCRIPTION:Make connections with fellow Chamber members while enjoying food & beverages\, including beer and wine provided by Texas Furniture & Appliance. \n\nRemember to bring your business card for this networking opportunity and a chance to win a 65" LG TV from Texas Furniture!
X-ALT-DESC;FMTTYPE=text/html:Make connections with fellow Chamber members while enjoying food &amp\; beverages\, including beer and wine provided by Texas Furniture &amp\; Appliance.&nbsp\;<br />\nRemember to bring your business card for this networking opportunity and a chance to win a 65&quot\; LG TV from Texas Furniture!
LOCATION:
UID:e.1675.20093
SEQUENCE:3
DTSTAMP:20260422T185853Z
URL:https://dev.paristexas.com/events/details/business-after-hours-at-texas-furniture-appliance-20093
END:VEVENT

END:VCALENDAR
